Package: CopyNumberPlots Version: 1.23.0 Command: rm -rf CopyNumberPlots.buildbin-libdir && mkdir CopyNumberPlots.buildbin-libdir && E:\biocbuild\bbs-3.21-bioc\R\bin\R.exe CMD INSTALL --build --library=CopyNumberPlots.buildbin-libdir CopyNumberPlots_1.23.0.tar.gz StartedAt: 2025-01-22 07:22:51 -0500 (Wed, 22 Jan 2025) EndedAt: 2025-01-22 07:24:42 -0500 (Wed, 22 Jan 2025) EllapsedTime: 111.5 seconds RetCode: 0 Status: OK PackageFile: CopyNumberPlots_1.23.0.zip PackageFileSize: 936.1 KiB