Package: CopyNumberPlots Version: 1.23.0 Command: chmod a+r CopyNumberPlots -R && E:\biocbuild\bbs-3.21-bioc\R\bin\R.exe CMD build --keep-empty-dirs --no-resave-data CopyNumberPlots StartedAt: 2025-02-04 18:01:53 -0500 (Tue, 04 Feb 2025) EndedAt: 2025-02-04 18:03:25 -0500 (Tue, 04 Feb 2025) EllapsedTime: 92.3 seconds RetCode: 1 Status: ERROR PackageFile: None PackageFileSize: NA