Package: CopyNumberPlots Version: 1.23.0 Command: E:\biocbuild\bbs-3.21-bioc\R\bin\R.exe CMD INSTALL CopyNumberPlots StartedAt: 2025-02-04 16:13:11 -0500 (Tue, 04 Feb 2025) EndedAt: 2025-02-04 16:14:29 -0500 (Tue, 04 Feb 2025) EllapsedTime: 78.5 seconds RetCode: 0 Status: OK