Package: CoreGx Version: 2.11.0 Command: /home/biocbuild/bbs-3.21-bioc/R/bin/R CMD INSTALL CoreGx StartedAt: 2025-02-09 15:22:46 -0500 (Sun, 09 Feb 2025) EndedAt: 2025-02-09 15:23:22 -0500 (Sun, 09 Feb 2025) EllapsedTime: 36.5 seconds RetCode: 0 Status: OK