Package: CoreGx Version: 2.11.0 Command: rm -rf CoreGx.buildbin-libdir && mkdir CoreGx.buildbin-libdir && E:\biocbuild\bbs-3.21-bioc\R\bin\R.exe CMD INSTALL --build --library=CoreGx.buildbin-libdir CoreGx_2.11.0.tar.gz StartedAt: 2025-02-13 07:42:15 -0500 (Thu, 13 Feb 2025) EndedAt: 2025-02-13 07:44:26 -0500 (Thu, 13 Feb 2025) EllapsedTime: 130.5 seconds RetCode: 0 Status: OK PackageFile: CoreGx_2.11.0.zip PackageFileSize: 2.435 MiB