Package: CoreGx Version: 2.11.0 Command: chmod a+r CoreGx -R && E:\biocbuild\bbs-3.21-bioc\R\bin\R.exe CMD build --keep-empty-dirs --no-resave-data CoreGx StartedAt: 2025-02-09 18:03:24 -0500 (Sun, 09 Feb 2025) EndedAt: 2025-02-09 18:05:18 -0500 (Sun, 09 Feb 2025) EllapsedTime: 114.0 seconds RetCode: 0 Status: OK PackageFile: CoreGx_2.11.0.tar.gz PackageFileSize: 1.364 MiB