Package: CoreGx Version: 2.11.0 Command: E:\biocbuild\bbs-3.21-bioc\R\bin\R.exe CMD INSTALL CoreGx StartedAt: 2025-02-09 16:23:07 -0500 (Sun, 09 Feb 2025) EndedAt: 2025-02-09 16:25:12 -0500 (Sun, 09 Feb 2025) EllapsedTime: 124.9 seconds RetCode: 0 Status: OK