Package: CrispRVariants Version: 1.35.0 Maintainer: Helen Lindsay MaintainerEmail: helen.lindsay at chuv.ch git_url: https://git.bioconductor.org/packages/CrispRVariants git_branch: devel git_last_commit: aa34499 git_last_commit_date: 2024-10-29 10:06:09 -0500 (Tue, 29 Oct 2024)