Package: CrispRVariants Version: 1.35.0 Command: /Library/Frameworks/R.framework/Resources/bin/R CMD build --keep-empty-dirs --no-resave-data CrispRVariants StartedAt: 2025-02-04 16:01:00 -0500 (Tue, 04 Feb 2025) EndedAt: 2025-02-04 16:01:46 -0500 (Tue, 04 Feb 2025) EllapsedTime: 45.5 seconds RetCode: 0 Status: OK PackageFile: CrispRVariants_1.35.0.tar.gz PackageFileSize: 3.499 MiB