Package: CrispRVariants Version: 1.35.0 Command: /home/biocbuild/R/R/bin/R CMD build --keep-empty-dirs --no-resave-data CrispRVariants StartedAt: 2025-01-28 22:10:35 -0000 (Tue, 28 Jan 2025) EndedAt: 2025-01-28 22:13:45 -0000 (Tue, 28 Jan 2025) EllapsedTime: 190.1 seconds RetCode: 0 Status: OK PackageFile: CrispRVariants_1.35.0.tar.gz PackageFileSize: 2.183 MiB