Package: CrispRVariants Version: 1.35.0 Command: /home/biocbuild/R/R/bin/R CMD check --install=check:CrispRVariants.install-out.txt --library=/home/biocbuild/R/R/site-library --no-vignettes --timings CrispRVariants_1.35.0.tar.gz StartedAt: 2025-01-28 09:34:17 -0000 (Tue, 28 Jan 2025) EndedAt: 2025-01-28 09:40:43 -0000 (Tue, 28 Jan 2025) EllapsedTime: 386.3 seconds RetCode: 0 Status: WARNINGS CheckDir: CrispRVariants.Rcheck Warnings: 2