Package: CrispRVariants Version: 1.35.0 Command: rm -rf CrispRVariants.buildbin-libdir && mkdir CrispRVariants.buildbin-libdir && /Users/biocbuild/BBS/utils/build-universal.sh CrispRVariants_1.35.0.tar.gz /Library/Frameworks/R.framework/Resources/bin/R CrispRVariants.buildbin-libdir StartedAt: 2025-02-10 00:48:38 -0500 (Mon, 10 Feb 2025) EndedAt: 2025-02-10 00:49:42 -0500 (Mon, 10 Feb 2025) EllapsedTime: 63.5 seconds RetCode: 0 Status: OK PackageFile: CrispRVariants_1.35.0.tgz PackageFileSize: 3.923 MiB