Package: CrispRVariants Version: 1.35.0 Command: /home/biocbuild/bbs-3.21-bioc/R/bin/R CMD check --install=check:CrispRVariants.install-out.txt --library=/home/biocbuild/bbs-3.21-bioc/R/site-library --timings CrispRVariants_1.35.0.tar.gz StartedAt: 2025-02-09 21:18:22 -0500 (Sun, 09 Feb 2025) EndedAt: 2025-02-09 21:24:50 -0500 (Sun, 09 Feb 2025) EllapsedTime: 387.4 seconds RetCode: 0 Status: WARNINGS CheckDir: CrispRVariants.Rcheck Warnings: 2