Package: CrispRVariants Version: 1.35.0 Command: E:\biocbuild\bbs-3.21-bioc\R\bin\R.exe CMD check --no-multiarch --install=check:CrispRVariants.install-out.txt --library=E:\biocbuild\bbs-3.21-bioc\R\library --no-vignettes --timings CrispRVariants_1.35.0.tar.gz StartedAt: 2025-02-10 00:01:30 -0500 (Mon, 10 Feb 2025) EndedAt: 2025-02-10 00:07:23 -0500 (Mon, 10 Feb 2025) EllapsedTime: 353.8 seconds RetCode: 0 Status: WARNINGS CheckDir: CrispRVariants.Rcheck Warnings: 2