Package: CuratedAtlasQueryR Version: 1.5.0 Command: /home/biocbuild/R/R/bin/R CMD build --keep-empty-dirs --no-resave-data CuratedAtlasQueryR StartedAt: 2025-01-28 22:12:32 -0000 (Tue, 28 Jan 2025) EndedAt: 2025-01-28 22:15:24 -0000 (Tue, 28 Jan 2025) EllapsedTime: 172.1 seconds RetCode: 0 Status: OK PackageFile: CuratedAtlasQueryR_1.5.0.tar.gz PackageFileSize: 915.4 KiB