Package: CuratedAtlasQueryR Version: 1.5.0 Command: rm -rf CuratedAtlasQueryR.buildbin-libdir && mkdir CuratedAtlasQueryR.buildbin-libdir && /Users/biocbuild/BBS/utils/build-universal.sh CuratedAtlasQueryR_1.5.0.tar.gz /Library/Frameworks/R.framework/Resources/bin/R CuratedAtlasQueryR.buildbin-libdir StartedAt: 2025-02-13 00:32:15 -0500 (Thu, 13 Feb 2025) EndedAt: 2025-02-13 00:33:10 -0500 (Thu, 13 Feb 2025) EllapsedTime: 54.2 seconds RetCode: 0 Status: OK PackageFile: CuratedAtlasQueryR_1.5.0.tgz PackageFileSize: 1013 KiB