Package: CytoGLMM Version: 1.15.0 Command: /Library/Frameworks/R.framework/Resources/bin/R CMD check --install=check:CytoGLMM.install-out.txt --library=/Library/Frameworks/R.framework/Resources/library --no-vignettes --timings CytoGLMM_1.15.0.tar.gz StartedAt: 2025-02-09 18:47:38 -0500 (Sun, 09 Feb 2025) EndedAt: 2025-02-09 18:48:29 -0500 (Sun, 09 Feb 2025) EllapsedTime: 50.6 seconds RetCode: 0 Status: OK CheckDir: CytoGLMM.Rcheck Warnings: 0