Package: CytoGLMM Version: 1.15.0 Command: /home/biocbuild/R/R/bin/R CMD build --keep-empty-dirs --no-resave-data CytoGLMM StartedAt: 2025-01-28 22:14:23 -0000 (Tue, 28 Jan 2025) EndedAt: 2025-01-28 22:17:09 -0000 (Tue, 28 Jan 2025) EllapsedTime: 166.1 seconds RetCode: 0 Status: OK PackageFile: CytoGLMM_1.15.0.tar.gz PackageFileSize: 324.9 KiB