Package: CytoGLMM Version: 1.15.0 Command: /home/biocbuild/R/R/bin/R CMD check --install=check:CytoGLMM.install-out.txt --library=/home/biocbuild/R/R/site-library --no-vignettes --timings CytoGLMM_1.15.0.tar.gz StartedAt: 2025-01-28 09:41:44 -0000 (Tue, 28 Jan 2025) EndedAt: 2025-01-28 09:44:15 -0000 (Tue, 28 Jan 2025) EllapsedTime: 151.2 seconds RetCode: 0 Status: OK CheckDir: CytoGLMM.Rcheck Warnings: 0