Package: CytoGLMM Version: 1.15.0 Command: /home/biocbuild/R/R/bin/R CMD INSTALL CytoGLMM StartedAt: 2025-01-29 20:34:14 -0000 (Wed, 29 Jan 2025) EndedAt: 2025-01-29 20:34:31 -0000 (Wed, 29 Jan 2025) EllapsedTime: 17.5 seconds RetCode: 0 Status: OK