Package: CytoGLMM Version: 1.15.0 Command: rm -rf CytoGLMM.buildbin-libdir && mkdir CytoGLMM.buildbin-libdir && /Users/biocbuild/BBS/utils/build-universal.sh CytoGLMM_1.15.0.tar.gz /Library/Frameworks/R.framework/Resources/bin/R CytoGLMM.buildbin-libdir StartedAt: 2025-02-10 00:49:12 -0500 (Mon, 10 Feb 2025) EndedAt: 2025-02-10 00:49:33 -0500 (Mon, 10 Feb 2025) EllapsedTime: 20.8 seconds RetCode: 0 Status: OK PackageFile: CytoGLMM_1.15.0.tgz PackageFileSize: 431.6 KiB