Package: CytoGLMM Version: 1.15.0 Command: /home/biocbuild/bbs-3.21-bioc/R/bin/R CMD INSTALL CytoGLMM StartedAt: 2025-02-03 15:19:54 -0500 (Mon, 03 Feb 2025) EndedAt: 2025-02-03 15:20:10 -0500 (Mon, 03 Feb 2025) EllapsedTime: 16.0 seconds RetCode: 0 Status: OK