Package: CytoGLMM Version: 1.15.0 Command: rm -rf CytoGLMM.buildbin-libdir && mkdir CytoGLMM.buildbin-libdir && E:\biocbuild\bbs-3.21-bioc\R\bin\R.exe CMD INSTALL --build --library=CytoGLMM.buildbin-libdir CytoGLMM_1.15.0.tar.gz StartedAt: 2025-02-04 07:47:16 -0500 (Tue, 04 Feb 2025) EndedAt: 2025-02-04 07:47:42 -0500 (Tue, 04 Feb 2025) EllapsedTime: 25.9 seconds RetCode: 0 Status: OK PackageFile: CytoGLMM_1.15.0.zip PackageFileSize: 383.1 KiB