Package: CytoGLMM Version: 1.15.0 Command: E:\biocbuild\bbs-3.21-bioc\R\bin\R.exe CMD check --no-multiarch --install=check:CytoGLMM.install-out.txt --library=E:\biocbuild\bbs-3.21-bioc\R\library --no-vignettes --timings CytoGLMM_1.15.0.tar.gz StartedAt: 2025-02-10 00:08:45 -0500 (Mon, 10 Feb 2025) EndedAt: 2025-02-10 00:11:14 -0500 (Mon, 10 Feb 2025) EllapsedTime: 149.4 seconds RetCode: 0 Status: OK CheckDir: CytoGLMM.Rcheck Warnings: 0