Package: CytoMDS Version: 1.3.5 Command: rm -rf CytoMDS.buildbin-libdir && mkdir CytoMDS.buildbin-libdir && /Users/biocbuild/BBS/utils/build-universal.sh CytoMDS_1.3.5.tar.gz /Library/Frameworks/R.framework/Resources/bin/R CytoMDS.buildbin-libdir StartedAt: 2025-02-03 22:47:09 -0500 (Mon, 03 Feb 2025) EndedAt: 2025-02-03 22:47:16 -0500 (Mon, 03 Feb 2025) EllapsedTime: 7.1 seconds RetCode: 0 Status: OK PackageFile: CytoMDS_1.3.5.tgz PackageFileSize: 3.817 MiB