Package: CytoMDS Version: 1.3.5 Command: /Library/Frameworks/R.framework/Resources/bin/R CMD build --keep-empty-dirs --no-resave-data CytoMDS StartedAt: 2025-02-04 16:24:16 -0500 (Tue, 04 Feb 2025) EndedAt: 2025-02-04 16:27:35 -0500 (Tue, 04 Feb 2025) EllapsedTime: 199.1 seconds RetCode: 0 Status: OK PackageFile: CytoMDS_1.3.5.tar.gz PackageFileSize: 5.039 MiB