Package: CytoMDS Version: 1.3.5 Command: /Library/Frameworks/R.framework/Resources/bin/R CMD check --install=check:CytoMDS.install-out.txt --library=/Library/Frameworks/R.framework/Resources/library --no-vignettes --timings CytoMDS_1.3.5.tar.gz StartedAt: 2025-02-04 19:53:40 -0500 (Tue, 04 Feb 2025) EndedAt: 2025-02-04 20:00:16 -0500 (Tue, 04 Feb 2025) EllapsedTime: 395.4 seconds RetCode: 0 Status: OK CheckDir: CytoMDS.Rcheck Warnings: 0