Package: CytoMDS Version: 1.3.5 Command: /Library/Frameworks/R.framework/Resources/bin/R CMD INSTALL CytoMDS StartedAt: 2025-02-04 15:32:30 -0500 (Tue, 04 Feb 2025) EndedAt: 2025-02-04 15:32:51 -0500 (Tue, 04 Feb 2025) EllapsedTime: 20.3 seconds RetCode: 0 Status: OK