Package: CytoMDS Version: 1.3.5 Command: rm -rf CytoMDS.buildbin-libdir && mkdir CytoMDS.buildbin-libdir && E:\biocbuild\bbs-3.21-bioc\R\bin\R.exe CMD INSTALL --build --library=CytoMDS.buildbin-libdir CytoMDS_1.3.5.tar.gz StartedAt: 2025-02-10 07:33:59 -0500 (Mon, 10 Feb 2025) EndedAt: 2025-02-10 07:34:55 -0500 (Mon, 10 Feb 2025) EllapsedTime: 56.3 seconds RetCode: 0 Status: OK PackageFile: CytoMDS_1.3.5.zip PackageFileSize: 1.49 MiB