Package: CytoMDS Version: 1.3.5 Command: E:\biocbuild\bbs-3.21-bioc\R\bin\R.exe CMD INSTALL CytoMDS StartedAt: 2025-02-09 15:59:53 -0500 (Sun, 09 Feb 2025) EndedAt: 2025-02-09 16:00:25 -0500 (Sun, 09 Feb 2025) EllapsedTime: 31.4 seconds RetCode: 0 Status: OK