Package: CytoML Version: 2.19.1 Command: /Library/Frameworks/R.framework/Resources/bin/R CMD check --install=check:CytoML.install-out.txt --library=/Library/Frameworks/R.framework/Resources/library --no-vignettes --timings CytoML_2.19.1.tar.gz StartedAt: 2025-02-09 18:48:29 -0500 (Sun, 09 Feb 2025) EndedAt: 2025-02-09 18:49:24 -0500 (Sun, 09 Feb 2025) EllapsedTime: 55.6 seconds RetCode: 0 Status: WARNINGS CheckDir: CytoML.Rcheck Warnings: 5