Package: CytoML Version: 2.19.1 Command: /Library/Frameworks/R.framework/Resources/bin/R CMD INSTALL CytoML StartedAt: 2025-02-09 15:06:31 -0500 (Sun, 09 Feb 2025) EndedAt: 2025-02-09 15:06:51 -0500 (Sun, 09 Feb 2025) EllapsedTime: 19.8 seconds RetCode: 0 Status: OK