Package: CytoML Version: 2.19.1 Command: /home/biocbuild/R/R/bin/R CMD build --keep-empty-dirs --no-resave-data CytoML StartedAt: 2025-01-28 22:15:11 -0000 (Tue, 28 Jan 2025) EndedAt: 2025-01-28 22:17:21 -0000 (Tue, 28 Jan 2025) EllapsedTime: 130.1 seconds RetCode: 0 Status: OK PackageFile: CytoML_2.19.1.tar.gz PackageFileSize: 7.87 MiB