Package: CytoML Version: 2.19.1 Command: /home/biocbuild/bbs-3.21-bioc/R/bin/R CMD build --keep-empty-dirs --no-resave-data CytoML StartedAt: 2025-02-09 16:52:44 -0500 (Sun, 09 Feb 2025) EndedAt: 2025-02-09 16:54:10 -0500 (Sun, 09 Feb 2025) EllapsedTime: 86.1 seconds RetCode: 0 Status: OK PackageFile: CytoML_2.19.1.tar.gz PackageFileSize: 8.054 MiB