Package: CytoPipeline Version: 1.7.0 Command: rm -rf CytoPipeline.buildbin-libdir && mkdir CytoPipeline.buildbin-libdir && /Users/biocbuild/BBS/utils/build-universal.sh CytoPipeline_1.7.0.tar.gz /Library/Frameworks/R.framework/Resources/bin/R CytoPipeline.buildbin-libdir StartedAt: 2025-02-04 22:13:14 -0500 (Tue, 04 Feb 2025) EndedAt: 2025-02-04 22:13:21 -0500 (Tue, 04 Feb 2025) EllapsedTime: 7.1 seconds RetCode: 0 Status: OK PackageFile: CytoPipeline_1.7.0.tgz PackageFileSize: 3.516 MiB