Package: CytoPipeline Version: 1.7.0 Command: /Library/Frameworks/R.framework/Resources/bin/R CMD build --keep-empty-dirs --no-resave-data CytoPipeline StartedAt: 2025-02-09 16:03:04 -0500 (Sun, 09 Feb 2025) EndedAt: 2025-02-09 16:03:23 -0500 (Sun, 09 Feb 2025) EllapsedTime: 19.2 seconds RetCode: 0 Status: OK PackageFile: CytoPipeline_1.7.0.tar.gz PackageFileSize: 3.34 MiB