Package: CytoPipeline Version: 1.7.0 Command: /Library/Frameworks/R.framework/Resources/bin/R CMD INSTALL CytoPipeline StartedAt: 2025-02-12 15:25:31 -0500 (Wed, 12 Feb 2025) EndedAt: 2025-02-12 15:25:52 -0500 (Wed, 12 Feb 2025) EllapsedTime: 21.5 seconds RetCode: 0 Status: OK