Package: CytoPipeline Version: 1.7.0 Command: /home/biocbuild/bbs-3.21-bioc/R/bin/R CMD build --keep-empty-dirs --no-resave-data CytoPipeline StartedAt: 2025-02-09 16:52:44 -0500 (Sun, 09 Feb 2025) EndedAt: 2025-02-09 16:53:28 -0500 (Sun, 09 Feb 2025) EllapsedTime: 44.0 seconds RetCode: 0 Status: OK PackageFile: CytoPipeline_1.7.0.tar.gz PackageFileSize: 3.187 MiB