Package: CytoPipeline Version: 1.7.0 Command: /home/biocbuild/bbs-3.21-bioc/R/bin/R CMD check --install=check:CytoPipeline.install-out.txt --library=/home/biocbuild/bbs-3.21-bioc/R/site-library --timings CytoPipeline_1.7.0.tar.gz StartedAt: 2025-02-09 21:26:31 -0500 (Sun, 09 Feb 2025) EndedAt: 2025-02-09 21:30:57 -0500 (Sun, 09 Feb 2025) EllapsedTime: 266.3 seconds RetCode: 0 Status: OK CheckDir: CytoPipeline.Rcheck Warnings: 0