Package: CytoPipeline Version: 1.7.0 Command: /home/biocbuild/bbs-3.21-bioc/R/bin/R CMD INSTALL CytoPipeline StartedAt: 2025-02-09 15:33:15 -0500 (Sun, 09 Feb 2025) EndedAt: 2025-02-09 15:33:31 -0500 (Sun, 09 Feb 2025) EllapsedTime: 15.3 seconds RetCode: 0 Status: OK