Package: CytoPipeline Version: 1.7.0 Command: rm -rf CytoPipeline.buildbin-libdir && mkdir CytoPipeline.buildbin-libdir && E:\biocbuild\bbs-3.21-bioc\R\bin\R.exe CMD INSTALL --build --library=CytoPipeline.buildbin-libdir CytoPipeline_1.7.0.tar.gz StartedAt: 2025-02-10 07:34:08 -0500 (Mon, 10 Feb 2025) EndedAt: 2025-02-10 07:35:08 -0500 (Mon, 10 Feb 2025) EllapsedTime: 60.3 seconds RetCode: 0 Status: OK PackageFile: CytoPipeline_1.7.0.zip PackageFileSize: 2.645 MiB