Package: CytoPipeline Version: 1.7.0 Command: chmod a+r CytoPipeline -R && E:\biocbuild\bbs-3.21-bioc\R\bin\R.exe CMD build --keep-empty-dirs --no-resave-data CytoPipeline StartedAt: 2025-02-09 18:09:52 -0500 (Sun, 09 Feb 2025) EndedAt: 2025-02-09 18:11:33 -0500 (Sun, 09 Feb 2025) EllapsedTime: 100.4 seconds RetCode: 0 Status: OK PackageFile: CytoPipeline_1.7.0.tar.gz PackageFileSize: 2.467 MiB