Package: DAMEfinder Version: 1.19.0 Command: /Library/Frameworks/R.framework/Resources/bin/R CMD check --install=check:DAMEfinder.install-out.txt --library=/Library/Frameworks/R.framework/Resources/library --no-vignettes --timings DAMEfinder_1.19.0.tar.gz StartedAt: 2025-02-04 18:50:55 -0500 (Tue, 04 Feb 2025) EndedAt: 2025-02-04 18:52:46 -0500 (Tue, 04 Feb 2025) EllapsedTime: 111.3 seconds RetCode: 0 Status: OK CheckDir: DAMEfinder.Rcheck Warnings: 0