Package: DAMEfinder Version: 1.19.0 Command: rm -rf DAMEfinder.buildbin-libdir && mkdir DAMEfinder.buildbin-libdir && /Users/biocbuild/BBS/utils/build-universal.sh DAMEfinder_1.19.0.tar.gz /Library/Frameworks/R.framework/Resources/bin/R DAMEfinder.buildbin-libdir StartedAt: 2025-02-05 00:35:57 -0500 (Wed, 05 Feb 2025) EndedAt: 2025-02-05 00:36:37 -0500 (Wed, 05 Feb 2025) EllapsedTime: 40.4 seconds RetCode: 0 Status: OK PackageFile: DAMEfinder_1.19.0.tgz PackageFileSize: 5.046 MiB