Package: DAMEfinder Version: 1.19.0 Command: /Library/Frameworks/R.framework/Resources/bin/R CMD build --keep-empty-dirs --no-resave-data DAMEfinder StartedAt: 2025-02-05 16:24:39 -0500 (Wed, 05 Feb 2025) EndedAt: 2025-02-05 16:27:02 -0500 (Wed, 05 Feb 2025) EllapsedTime: 142.9 seconds RetCode: 0 Status: OK PackageFile: DAMEfinder_1.19.0.tar.gz PackageFileSize: 4.953 MiB