Package: DAMEfinder Version: 1.19.0 Command: /Library/Frameworks/R.framework/Resources/bin/R CMD check --install=check:DAMEfinder.install-out.txt --library=/Library/Frameworks/R.framework/Resources/library --no-vignettes --timings DAMEfinder_1.19.0.tar.gz StartedAt: 2025-02-05 19:54:44 -0500 (Wed, 05 Feb 2025) EndedAt: 2025-02-05 20:00:23 -0500 (Wed, 05 Feb 2025) EllapsedTime: 338.3 seconds RetCode: 0 Status: OK CheckDir: DAMEfinder.Rcheck Warnings: 0