Package: DAMEfinder Version: 1.19.0 Command: /Library/Frameworks/R.framework/Resources/bin/R CMD INSTALL DAMEfinder StartedAt: 2025-02-05 15:19:59 -0500 (Wed, 05 Feb 2025) EndedAt: 2025-02-05 15:20:39 -0500 (Wed, 05 Feb 2025) EllapsedTime: 39.2 seconds RetCode: 0 Status: OK