Package: DAMEfinder Version: 1.19.0 Command: /home/biocbuild/bbs-3.21-bioc/R/bin/R CMD build --keep-empty-dirs --no-resave-data DAMEfinder StartedAt: 2025-02-05 16:53:09 -0500 (Wed, 05 Feb 2025) EndedAt: 2025-02-05 16:55:17 -0500 (Wed, 05 Feb 2025) EllapsedTime: 128.2 seconds RetCode: 0 Status: OK PackageFile: DAMEfinder_1.19.0.tar.gz PackageFileSize: 4.699 MiB