Package: DAMEfinder Version: 1.19.0 Command: /home/biocbuild/bbs-3.21-bioc/R/bin/R CMD INSTALL DAMEfinder StartedAt: 2025-02-05 15:43:31 -0500 (Wed, 05 Feb 2025) EndedAt: 2025-02-05 15:44:00 -0500 (Wed, 05 Feb 2025) EllapsedTime: 29.9 seconds RetCode: 0 Status: OK