Package: DAMEfinder Version: 1.19.0 Command: chmod a+r DAMEfinder -R && E:\biocbuild\bbs-3.21-bioc\R\bin\R.exe CMD build --keep-empty-dirs --no-resave-data DAMEfinder StartedAt: 2025-02-05 18:15:32 -0500 (Wed, 05 Feb 2025) EndedAt: 2025-02-05 18:18:01 -0500 (Wed, 05 Feb 2025) EllapsedTime: 148.9 seconds RetCode: 0 Status: OK PackageFile: DAMEfinder_1.19.0.tar.gz PackageFileSize: 3.057 MiB